BEGIN:VCALENDAR
VERSION:2.0
PRODID:-//ChamberMaster//Event Calendar 2.0//EN
METHOD:PUBLISH
X-PUBLISHED-TTL:P1H
REFRESH-INTERVAL:P1H
CALSCALE:GREGORIAN
BEGIN:VTIMEZONE
TZID:America/Chicago
BEGIN:DAYLIGHT
RRULE:FREQ=YEARLY;BYMONTH=3;BYDAY=2SU
DTSTART:20070101T000000
TZOFFSETFROM:-0600
TZOFFSETTO:-0500
TZNAME:Central Daylight Time
END:DAYLIGHT
BEGIN:STANDARD
RRULE:FREQ=YEARLY;BYMONTH=11;BYDAY=1SU
DTSTART:20070101T000000
TZOFFSETFROM:-0500
TZOFFSETTO:-0600
TZNAME:Central Standard Time
END:STANDARD
END:VTIMEZONE
BEGIN:VEVENT
DTSTART;TZID=America/Chicago:20260523T180000
DTEND;TZID=America/Chicago:20260523T200000
X-MICROSOFT-CDO-ALLDAYEVENT:FALSE
SUMMARY:Rockin' Crockett's Amphitheater - Summer Concert Series - Overdrive
DESCRIPTION:Get ready to jam out live at Rockin Crockett's Amphitheater this summer with epic tunes and good vibes! May's Concert is Overdrive! Presale tickets are $10 though the end of April. $20 tickets in May and at door.\nThe Friends of David Crockett State park will have concessions available and all proceeds go to support programs in the park.
X-ALT-DESC;FMTTYPE=text/html:<!DOCTYPE html><html><head><title></title></head><body aria-disabled="false"><p>Get ready to jam out live at Rockin Crockett&#39\;s Amphitheater this summer with epic tunes and good vibes! May&#39\;s Concert is Overdrive! Presale tickets are $10 though the end of April. $20 tickets in May and at door.</p><p><br></p><p>The Friends of David Crockett State park will have concessions available and all proceeds go to support programs in the park.</p></body></html>
LOCATION:1400 West Gaines Street Lawrenceburg TN 38464
UID:e.2511.1442707
SEQUENCE:3
DTSTAMP:20260420T170925Z
URL:https://tourism.lawcotn.com/eventcalendar/Details/rockin-crockett-s-amphitheater-summer-concert-series-overdrive-1708770?sourceTypeId=Hub
END:VEVENT
END:VCALENDAR
